BEGIN:VCALENDAR
VERSION:2.0
PRODID:-//https://ischiaeventi.it///NONSGML kigkonsult.se iCalcreator 2.10.15//
METHOD:PUBLISH
BEGIN:VEVENT
UID:20260423T225223UTC-5280oz1TKg@https://ischiaeventi.it/
DTSTAMP:20260423T225223Z
DESCRIPTION:Cinema delle Vittorie\nIngresso libero sino ad esaurimento post
 i\n19:00 ARIA di Federica Belletti (Italia\, 2025) – 12’\n&nbsp\;\n&nbsp\;
 \n&nbsp\; https://ischiaeventi.it/eventi-passati/evento/100820-ischia-glob
 al-fest-2025-aria
DTSTART:20250713T170000Z
DTEND:20250713T185900Z
LOCATION:Cinema delle Vittorie (Corso Avvocato Francesco Regine\, 32\, 8007
 5 Forio NA\, Italia)
SUMMARY:Ischia Global Fest 2025: ARIA 
URL:https://ischiaeventi.it/eventi-passati/evento/100820-ischia-global-fest
 -2025-aria
END:VEVENT
END:VCALENDAR
