BEGIN:VCALENDAR
VERSION:2.0
PRODID:-//https://ischiaeventi.it///NONSGML kigkonsult.se iCalcreator 2.10.15//
METHOD:PUBLISH
BEGIN:VEVENT
UID:20260424T041904UTC-0379eUPN89@https://ischiaeventi.it/
DTSTAMP:20260424T041904Z
DESCRIPTION:Piazza Santa Restituta\nIngresso libero sino ad esaurimento pos
 ti\n21.30 CHAMPAGNE – PEPPINO DI CAPRI di Cinzia TH Torrini (Italia\, 2025
 ) – 120’\nIntroduce la regista\n&nbsp\;\n&nbsp\;\n https://ischiaeventi.it
 /eventi-passati/evento/100825-ischia-global-fest-2025-champagne---peppino-
 di-capri
DTSTART:20250707T193000Z
DTEND:20250707T205900Z
LOCATION:Piazza Santa Restituta  (Piazza Santa Restituta\, 80076 Lacco Amen
 o NA\, Italia)
SUMMARY:Ischia Global Fest 2025: CHAMPAGNE – PEPPINO DI CAPRI 
URL:https://ischiaeventi.it/eventi-passati/evento/100825-ischia-global-fest
 -2025-champagne---peppino-di-capri
END:VEVENT
END:VCALENDAR
