BEGIN:VCALENDAR
VERSION:2.0
PRODID:-//https://ischiaeventi.it///NONSGML kigkonsult.se iCalcreator 2.10.15//
METHOD:PUBLISH
BEGIN:VEVENT
UID:20260423T225339UTC-62004jXEpt@https://ischiaeventi.it/
DTSTAMP:20260423T225339Z
DESCRIPTION:Piazza Santa Restituta\nIngresso libero sino ad esaurimento pos
 ti\n21.30 MANI NUDE di Mauro Mancini (Italia\, 2024) – 124’\n&nbsp\;\n&nbs
 p\;\n&nbsp\;\n&nbsp\;\n https://ischiaeventi.it/eventi-passati/evento/1008
 30-ischia-global-fest-2025-mani-nude
DTSTART:20250713T193000Z
DTEND:20250713T205900Z
LOCATION:Piazza Santa Restituta  (Piazza Santa Restituta\, 80076 Lacco Amen
 o NA\, Italia)
SUMMARY:Ischia Global Fest 2025: MANI NUDE 
URL:https://ischiaeventi.it/eventi-passati/evento/100830-ischia-global-fest
 -2025-mani-nude
END:VEVENT
END:VCALENDAR
