BEGIN:VCALENDAR
VERSION:2.0
PRODID:-//https://ischiaeventi.it///NONSGML kigkonsult.se iCalcreator 2.10.15//
METHOD:PUBLISH
BEGIN:VEVENT
UID:20260424T041823UTC-9573v9IshM@https://ischiaeventi.it/
DTSTAMP:20260424T041823Z
DESCRIPTION:Cinema delle Vittorie\nIngresso libero sino ad esaurimento post
 i\n19:00 IL ROBOT SELVAGGIO di Chris Sanders (USA\, 2024) – 101’\n&nbsp\;
 \n https://ischiaeventi.it/eventi-passati/evento/100978-ischia-global-fest
 -2025-il-robot-selvaggio
DTSTART:20250706T170000Z
DTEND:20250706T185900Z
LOCATION:Cinema delle Vittorie (Corso Avvocato Francesco Regine\, 32\, 8007
 5 Forio NA\, Italia)
SUMMARY:Ischia Global Fest 2025: IL ROBOT SELVAGGIO
URL:https://ischiaeventi.it/eventi-passati/evento/100978-ischia-global-fest
 -2025-il-robot-selvaggio
END:VEVENT
END:VCALENDAR
