BEGIN:VCALENDAR
VERSION:2.0
PRODID:-//https://ischiaeventi.it///NONSGML kigkonsult.se iCalcreator 2.10.15//
METHOD:PUBLISH
BEGIN:VEVENT
UID:20260423T230436UTC-1211xlfc0t@https://ischiaeventi.it/
DTSTAMP:20260423T230436Z
DESCRIPTION:Presentazione del libro di Gea Palumbo Ricominciamo dai nomi\,&
 nbsp\;dai miti e dalle fonti nei secoli https://ischiaeventi.it/eventi-pas
 sati/evento/249178-natale-all-antoniana-presentazione-del-libro-di-gea-pal
 umbo-ricominciamo-dai-nomi-dai-miti-e-dalle-fonti-nei-secoli
DTSTART:20251203T160000Z
DTEND:20251203T180000Z
LOCATION:Biblioteca Antoniana (Rampe S.Antonio\, 5\, 80077 - Ischia)
SUMMARY:Natale all' Antoniana: Presentazione del libro di Gea Palumbo Ricom
 inciamo dai nomi\, dai miti e dalle fonti nei secoli
URL:https://ischiaeventi.it/eventi-passati/evento/249178-natale-all-antonia
 na-presentazione-del-libro-di-gea-palumbo-ricominciamo-dai-nomi-dai-miti-e
 -dalle-fonti-nei-secoli
END:VEVENT
END:VCALENDAR
