BEGIN:VCALENDAR
VERSION:2.0
PRODID:-//https://ischiaeventi.it///NONSGML kigkonsult.se iCalcreator 2.10.15//
METHOD:PUBLISH
BEGIN:VEVENT
UID:20260423T230048UTC-3737RH589b@https://ischiaeventi.it/
DTSTAMP:20260423T230048Z
DESCRIPTION:Un viaggio brillante tra culture e gioielli a cura di Il risveg
 lio di Partenope. Luce nell'abisso Giovan Giuseppe Lanfreschi&nbsp\;(Parco
  Culturale Ischia) https://ischiaeventi.it/eventi-passati/evento/249179-na
 tale-all-antoniana-magici-desideri-nellisola-della-luce
DTSTART:20251204T163000Z
DTEND:20251204T180000Z
LOCATION:Biblioteca Antoniana (Rampe S.Antonio\, 5\, 80077 - Ischia)
SUMMARY:Natale all' Antoniana: Magici desideri nell'isola della luce
URL:https://ischiaeventi.it/eventi-passati/evento/249179-natale-all-antonia
 na-magici-desideri-nellisola-della-luce
END:VEVENT
END:VCALENDAR
