BEGIN:VCALENDAR
VERSION:2.0
PRODID:-//https://ischiaeventi.it///NONSGML kigkonsult.se iCalcreator 2.10.15//
METHOD:PUBLISH
BEGIN:VEVENT
UID:20260423T230436UTC-5603p1PuNH@https://ischiaeventi.it/
DTSTAMP:20260423T230436Z
DESCRIPTION:Presentazione del libro di Federica lacobelli - Il Paese dei ma
 tti (Bompiani)\n https://ischiaeventi.it/eventi-passati/evento/249186-nata
 le-all-antoniana-presentazione-del-libro-di-federica-lacobelli-il-paese-de
 i-matti
DTSTART:20251227T170000Z
DTEND:20251227T180000Z
LOCATION:Biblioteca Antoniana (Rampe S.Antonio\, 5\, 80077 - Ischia)
SUMMARY:Natale all' Antoniana: Presentazione del libro di Federica lacobell
 i - Il Paese dei matti 
URL:https://ischiaeventi.it/eventi-passati/evento/249186-natale-all-antonia
 na-presentazione-del-libro-di-federica-lacobelli-il-paese-dei-matti
END:VEVENT
END:VCALENDAR
