BEGIN:VCALENDAR
VERSION:2.0
PRODID:-//https://ischiaeventi.it///NONSGML kigkonsult.se iCalcreator 2.10.15//
METHOD:PUBLISH
BEGIN:VEVENT
UID:20260424T023153UTC-4284IXWmAs@https://ischiaeventi.it/
DTSTAMP:20260424T023153Z
DESCRIPTION:Presentazione del libro di racconti di Giuseppe Magaldi presso 
 l'Arciconfraternita di Santa Maria di Visitapoveri venerdì 12 dicembre 202
 5 alle ore 18.00 https://ischiaeventi.it/eventi-passati/evento/249223-favo
 le-per-il-giorno-dopo---omaggio-al-capitano-giuseppe-magaldi
DTSTART:20251212T170000Z
DTEND:20251212T200000Z
LOCATION:Arciconfraternità S. Maria Visitapoveri (Piazza Municipio\, 9\, 80
 075 Forio NA\, Italia)
SUMMARY:Favole per il giorno dopo” – Omaggio al Capitano Giuseppe Magaldi
URL:https://ischiaeventi.it/eventi-passati/evento/249223-favole-per-il-gior
 no-dopo---omaggio-al-capitano-giuseppe-magaldi
END:VEVENT
END:VCALENDAR
