BEGIN:VCALENDAR
VERSION:2.0
PRODID:-//https://ischiaeventi.it///NONSGML kigkonsult.se iCalcreator 2.10.15//
METHOD:PUBLISH
BEGIN:VEVENT
UID:20260423T210913UTC-3484KAvR0g@https://ischiaeventi.it/
DTSTAMP:20260423T210913Z
DESCRIPTION:A jucata d''e nucelle fore 'a mern a Cav' a cura della Pro Loco
  Barano\n\n https://ischiaeventi.it/eventi-passati/evento/249228-natale-a-
 ischia-a-jucata-de-nucelle-fore-a-mern-a-cav
DTSTART:20251221T143000Z
DTEND:20251221T190000Z
LOCATION:Piazza San Rocco (Via Provinciale Luigi Scotti\, 80070 Barano NA\,
  Italia)
SUMMARY:Natale a Ischia: A jucata d''e nucelle fore 'a mern a Cav'
URL:https://ischiaeventi.it/eventi-passati/evento/249228-natale-a-ischia-a-
 jucata-de-nucelle-fore-a-mern-a-cav
END:VEVENT
END:VCALENDAR
