BEGIN:VCALENDAR
VERSION:2.0
PRODID:-//https://ischiaeventi.it///NONSGML kigkonsult.se iCalcreator 2.10.15//
METHOD:PUBLISH
BEGIN:VEVENT
UID:20260423T210628UTC-7155rvChuT@https://ischiaeventi.it/
DTSTAMP:20260423T210628Z
DESCRIPTION:Giorgio Vanni in concerto https://ischiaeventi.it/eventi-passat
 i/evento/249269-giorgio-vanni-in-concerto
DTSTART:20251218T180000Z
DTEND:20251218T210000Z
LOCATION:Piazza San Leonardo ( Via Cavaliere Leonardo Impagliazzo\, 53\, 80
 075 Forio NA)
SUMMARY:Giorgio Vanni in concerto
URL:https://ischiaeventi.it/eventi-passati/evento/249269-giorgio-vanni-in-c
 oncerto
END:VEVENT
END:VCALENDAR
