BEGIN:VCALENDAR
VERSION:2.0
PRODID:-//https://ischiaeventi.it///NONSGML kigkonsult.se iCalcreator 2.10.15//
METHOD:PUBLISH
BEGIN:VEVENT
UID:20260423T225409UTC-8754CuOt49@https://ischiaeventi.it/
DTSTAMP:20260423T225409Z
DESCRIPTION:La manifestazione\, giunta alla sua 12^ edizione\, ripropone in
  chiave Natalizia i percorsi che si effettuano nel mese di settembre duran
 te Andar per Cantine e conduce residenti e turisti alla riscoperta delle n
 ostre antiche tradizioni attraverso visite guidate nelle più caratteristic
 he cantine della nostra isola con degustazione di prodotti tipici della tr
 adizione natalizia. https://ischiaeventi.it/eventi-passati/evento/249276-c
 antinando-a-natale-xii-edizione
DTSTART:20260101T104700Z
DTEND:20260101T124700Z
LOCATION:Panza (Piazza San Leonardo - 80075 Panza Forio)
SUMMARY:Cantinando a Natale - XII Edizione
URL:https://ischiaeventi.it/eventi-passati/evento/249276-cantinando-a-natal
 e-xii-edizione
END:VEVENT
END:VCALENDAR
