BEGIN:VCALENDAR
VERSION:2.0
PRODID:-//https://ischiaeventi.it///NONSGML kigkonsult.se iCalcreator 2.10.15//
METHOD:PUBLISH
BEGIN:VEVENT
UID:20260423T210552UTC-9792sXAfel@https://ischiaeventi.it/
DTSTAMP:20260423T210552Z
DESCRIPTION:Party di Natale in piazza del Testaccio https://ischiaeventi.it
 /eventi-passati/evento/249322-party-di-natale
DTSTART:20251222T180000Z
DTEND:20251222T200000Z
LOCATION:Piazza Mar del Plata Testaccio (Via Provinciale Croce di Testaccio
 \, 18\, 80070 Barano D'ischia NA\, Italy)
SUMMARY:Party di Natale
URL:https://ischiaeventi.it/eventi-passati/evento/249322-party-di-natale
END:VEVENT
END:VCALENDAR
