BEGIN:VCALENDAR
VERSION:2.0
PRODID:-//https://ischiaeventi.it///NONSGML kigkonsult.se iCalcreator 2.10.15//
METHOD:PUBLISH
BEGIN:VEVENT
UID:20260424T131506UTC-0222u9XVHZ@https://ischiaeventi.it/
DTSTAMP:20260424T131506Z
DESCRIPTION:Natale a Forio 2025: sotto il cielo di Forio\, selezione cantan
 ti https://ischiaeventi.it/eventi-passati/evento/249323-natale-a-forio-202
 5-sotto-il-cielo-di-forio
DTSTART:20251221T100000Z
DTEND:20251221T120000Z
LOCATION:sala consiliare Mazzella  (80075 Forio NA\, Italia)
SUMMARY:Natale a Forio 2025: sotto il cielo di Forio
URL:https://ischiaeventi.it/eventi-passati/evento/249323-natale-a-forio-202
 5-sotto-il-cielo-di-forio
END:VEVENT
END:VCALENDAR
