BEGIN:VCALENDAR
VERSION:2.0
PRODID:-//https://ischiaeventi.it///NONSGML kigkonsult.se iCalcreator 2.10.15//
METHOD:PUBLISH
BEGIN:VEVENT
UID:20260423T220853UTC-29151fuaFt@https://ischiaeventi.it/
DTSTAMP:20260423T220853Z
DESCRIPTION:Il ricettario di Nonna Titta https://ischiaeventi.it/eventi-pas
 sati/evento/249362-natale-a-forio-2025-il-ricettario-di-nonna-titta
DTSTART:20251220T160000Z
DTEND:20251220T180000Z
LOCATION:Chiostro S. Francesco (Rione Pescatori\, 2\, 80075 Forio NA\, Ital
 ia)
SUMMARY:Natale a Forio 2025: Il ricettario di Nonna Titta
URL:https://ischiaeventi.it/eventi-passati/evento/249362-natale-a-forio-202
 5-il-ricettario-di-nonna-titta
END:VEVENT
END:VCALENDAR
