BEGIN:VCALENDAR
VERSION:2.0
PRODID:-//https://ischiaeventi.it///NONSGML kigkonsult.se iCalcreator 2.10.15//
METHOD:PUBLISH
BEGIN:VEVENT
UID:20260423T195637UTC-6316Fn2tX6@https://ischiaeventi.it/
DTSTAMP:20260423T195637Z
DESCRIPTION:Amici\, autori\, critici\, sguardi liberi del cinema\, il 23 di
 cembre alle 11:30 vi aspettiamo a Villa La Colombaia di Luchino Visconti p
 er la conferenza stampa di presentazione di CineMoi\, una nuova rivista ch
 e sceglie il cinema come pensiero\, visione e atto critico.Un incontro tra
  parole\, immagini e idee\, in un luogo simbolo della Settima Arte\, per t
 ornare a vedere davvero e discutere il cinema senza compromessi\, mode o a
 nestesie.Interverranno Michela Mancusi\, Annamaria Gallo\, Flavio Natalia\
 , Alfonso Amendola\, Gianni Fiorito e Paolo Speranza.Vi aspettiamo. https:
 //ischiaeventi.it/eventi-passati/evento/249372-cinemoi-il-cinema-come-pens
 iero-visione-e-atto-critico
DTSTART:20251223T103000Z
DTEND:20251223T130000Z
LOCATION:La Colombaia (Via Francesco Calise\, 130\, 80075 Forio NA\, Italia
 )
SUMMARY:Cinemoi: il cinema come pensiero\, visione e atto critico
URL:https://ischiaeventi.it/eventi-passati/evento/249372-cinemoi-il-cinema-
 come-pensiero-visione-e-atto-critico
END:VEVENT
END:VCALENDAR
