BEGIN:VCALENDAR
VERSION:2.0
PRODID:-//https://ischiaeventi.it///NONSGML kigkonsult.se iCalcreator 2.10.15//
METHOD:PUBLISH
BEGIN:VEVENT
UID:20260423T175946UTC-4025nIibUb@https://ischiaeventi.it/
DTSTAMP:20260423T175946Z
DESCRIPTION:Ore 15\,00 Giochi in famiglia presso il plesso scolastico Rodar
 i.Ore 18\,30 S. Messa animata dalle Suore del GAM con la partecipazione de
 i bambini\; a seguire incontro col Padre Predicatore e con le suore del GA
 M e rottura dei salvadanai per la Infanzia Missionaria. https://ischiaeven
 ti.it/eventi-passati/evento/249396-festa-di-santantonio-abate
DTSTART:20260110T140000Z
DTEND:20260110T183000Z
LOCATION:Scuola Elementare Gianni Rodari (Via Gian Battista Vico 29\, 80077
 \, Ischia\, Napoli)
SUMMARY:Festa di Sant'Antonio Abate 
URL:https://ischiaeventi.it/eventi-passati/evento/249396-festa-di-santanton
 io-abate
END:VEVENT
END:VCALENDAR
