BEGIN:VCALENDAR
VERSION:2.0
PRODID:-//https://ischiaeventi.it///NONSGML kigkonsult.se iCalcreator 2.10.15//
METHOD:PUBLISH
BEGIN:VEVENT
UID:20260423T175828UTC-4819jKm8Dx@https://ischiaeventi.it/
DTSTAMP:20260423T175828Z
DESCRIPTION:Ore 18\,30 Messa solenne dei primi Vespri animata dalla Corale 
 Polifonica 'San Vito Martire' diretta dal M. Gianvito Di Maio e rito della
  benedizione del fuoco. Momento di festa attorno al falò con la tradiziona
 le salsicciata. Intrattenimento musicale della Banda. https://ischiaeventi
 .it/eventi-passati/evento/249397-festa-di-santantonio-abate
DTSTART:20260116T173000Z
DTEND:20260116T183000Z
LOCATION:Parrocchia di Sant'Antonio Abate (Via Acquedotto\, 63\, 80077 Isch
 ia NA\, Italia)
SUMMARY:Festa di Sant'Antonio Abate 
URL:https://ischiaeventi.it/eventi-passati/evento/249397-festa-di-santanton
 io-abate
END:VEVENT
END:VCALENDAR
