BEGIN:VCALENDAR
VERSION:2.0
PRODID:-//https://ischiaeventi.it///NONSGML kigkonsult.se iCalcreator 2.10.15//
METHOD:PUBLISH
BEGIN:VEVENT
UID:20260423T220541UTC-2778uvpiAS@https://ischiaeventi.it/
DTSTAMP:20260423T220541Z
DESCRIPTION:Una serata intorno al fuoco con panino\, salsiccia e friarielli
  e i primi piatti di Girolamo Mennella.Il ricavato andrà interamente all'a
 ssociazione Nunzia Mattera. https://ischiaeventi.it/eventi-passati/evento/
 249420-o-fucarazzo-e-sant-antuono
DTSTART:20260117T183000Z
DTEND:20260117T203000Z
LOCATION:Catena alimentare Nunzia Mattera (Via Eddomade\, Casamicciola Term
 e NA\, Italia)
SUMMARY:'O fucarazzo e Sant' Antuono
URL:https://ischiaeventi.it/eventi-passati/evento/249420-o-fucarazzo-e-sant
 -antuono
END:VEVENT
END:VCALENDAR
