BEGIN:VCALENDAR
VERSION:2.0
PRODID:-//https://ischiaeventi.it///NONSGML kigkonsult.se iCalcreator 2.10.15//
METHOD:PUBLISH
BEGIN:VEVENT
UID:20260423T232245UTC-2449vu5NF1@https://ischiaeventi.it/
DTSTAMP:20260423T232245Z
DESCRIPTION:Letture per bambini a cura dei lettori LaAV Ischia per il mese 
 di FebbraioUNISCITI A NOI TUTTI I VENERDÌ DALLE H. 16:30 ALLA LIBRERIA GIU
 NTI AL PUNTO ISCHIA - VIA ROMA\, 65TI ASPETTIAMO NEI GIORNI: 6-13-20-27 FE
 BBRAIO... NON MANCARE!!! https://ischiaeventi.it/eventi-passati/evento/249
 529-oggi-leggo-anchio
DTSTART:20260320T153000Z
DTEND:20260320T170000Z
LOCATION:Giunti al Punto  (Via Roma 65\, 80077\, Ischia\, Napoli)
SUMMARY:OGGI LEGGO ANCH'IO!
URL:https://ischiaeventi.it/eventi-passati/evento/249529-oggi-leggo-anchio
END:VEVENT
END:VCALENDAR
