BEGIN:VCALENDAR
VERSION:2.0
PRODID:-//https://ischiaeventi.it///NONSGML kigkonsult.se iCalcreator 2.10.15//
METHOD:PUBLISH
BEGIN:VEVENT
UID:20260423T232230UTC-6025SNcc1f@https://ischiaeventi.it/
DTSTAMP:20260423T232230Z
DESCRIPTION:Doppio appuntamento:alle 12.30 e alle 15.00dalle 15 grande fest
 a!Teatro dei BurattiniBaby dancing con le animazioni della ellegi Mascotte
  Disney e Marvel di FantasilandiaPopcorn per tuttiSpecial buble show con M
 aga SisinaGadget fluo in omaggio per tuttiGiochi e postazioniCannoni spara
  coriandoliIn caso di pioggia l'eventosi terrà all'interno del Polifunzion
 ale https://ischiaeventi.it/eventi-passati/evento/249562-carnevale-teatro-
 dei-burattini
DTSTART:20260217T113000Z
DTEND:20260217T140000Z
LOCATION:Sala Teatro Polifunzionale (Via Morgioni\, 80077 Ischia NA\, Itali
 a)
SUMMARY:Carnevale: Teatro dei Burattini
URL:https://ischiaeventi.it/eventi-passati/evento/249562-carnevale-teatro-d
 ei-burattini
END:VEVENT
END:VCALENDAR
