BEGIN:VCALENDAR
VERSION:2.0
PRODID:-//https://ischiaeventi.it///NONSGML kigkonsult.se iCalcreator 2.10.15//
METHOD:PUBLISH
BEGIN:VEVENT
UID:20260423T222401UTC-3311Ke0kJf@https://ischiaeventi.it/
DTSTAMP:20260423T222401Z
DESCRIPTION:flamma repente: terremoti\, frane\, eruzioni ad ischia dal neol
 itico all'epoca grecaSaluti: Lucia AnnicelliDirettrice Biblioteca Comunale
  AntonianaCaterina MazzellaPresidente del Parco Culturale IschiaInterviene
 : Mariangela Catuogno Archeologa https://ischiaeventi.it/eventi-passati/ev
 ento/249576-flamma-repente-terremoti-frane-eruzioni-ad-ischia-dal-neolitic
 o-allepoca-greca
DTSTART:20260227T170000Z
DTEND:20260227T190000Z
LOCATION:Biblioteca Antoniana (Rampe S.Antonio\, 5\, 80077 - Ischia)
SUMMARY:Flamma repente: terremoti\, frane\, eruzioni ad ischia dal neolitic
 o all'epoca greca
URL:https://ischiaeventi.it/eventi-passati/evento/249576-flamma-repente-ter
 remoti-frane-eruzioni-ad-ischia-dal-neolitico-allepoca-greca
END:VEVENT
END:VCALENDAR
