BEGIN:VCALENDAR
VERSION:2.0
PRODID:-//https://ischiaeventi.it///NONSGML kigkonsult.se iCalcreator 2.10.15//
METHOD:PUBLISH
BEGIN:VEVENT
UID:20260423T195507UTC-9299WWg9W9@https://ischiaeventi.it/
DTSTAMP:20260423T195507Z
DESCRIPTION:COMPAGNIA TEATRALE ATTORI PER CASOPRESENTA: Duje ChiapparielleC
 ommedia in tre atti di Eduardo ScarpettaGli Attori Per Caso sono felici di
  annunciare la REPLICA dopo il grande SuccessoDOMENICA I MARZOOre 17:30SAL
 A TEATRO POLIFUNZIONALE - ISCHIA https://ischiaeventi.it/eventi-passati/ev
 ento/249595-attori-per-caso-presenta-duje-chiapparielle
DTSTART:20260301T163000Z
DTEND:20260301T190000Z
LOCATION:Sala Teatro Polifunzionale (Via Morgioni\, 80077 Ischia NA\, Itali
 a)
SUMMARY:ATTORI PER CASO PRESENTA: Duje Chiapparielle
URL:https://ischiaeventi.it/eventi-passati/evento/249595-attori-per-caso-pr
 esenta-duje-chiapparielle
END:VEVENT
END:VCALENDAR
