BEGIN:VCALENDAR
VERSION:2.0
PRODID:-//https://ischiaeventi.it///NONSGML kigkonsult.se iCalcreator 2.10.15//
METHOD:PUBLISH
BEGIN:VEVENT
UID:20260423T232243UTC-1003Z2ZTZB@https://ischiaeventi.it/
DTSTAMP:20260423T232243Z
DESCRIPTION:ore 15.30In memoria di Federica Taglialatelaex alunna dell'I.C.
  Ischia 2 - Scotti\, vittima dell'attentato sul treno Rapido 904 - Napoli 
 - Milano\, 23 dicembre 1984 Venerdì 13 marzo 2026Aula di Federica - Aula M
 agna I.C. Ischia 2 - ScottiProgramma dell'evento.Saluti istituzionali e mo
 mento commemorativoAffissione della targa in sua memoria(Classe 2 O- - a.s
 . 1984/85)Testimonianze\, letture\, musica e riflessioniLa scuola è comuni
 tà\, memoria e impegno. Insieme per non dimenticare e costruire legalità. 
 https://ischiaeventi.it/eventi-passati/evento/249678-un-faro-nella-notte
DTSTART:20260313T143000Z
DTEND:20260313T170000Z
LOCATION:Ischia Scuola Media 'G. Scotti' (Via Michele Mazzella\, 117\, 8007
 7 Ischia NA\, Italia)
SUMMARY:Un Faro nella Notte
URL:https://ischiaeventi.it/eventi-passati/evento/249678-un-faro-nella-nott
 e
END:VEVENT
END:VCALENDAR
