BEGIN:VCALENDAR
VERSION:2.0
PRODID:-//https://ischiaeventi.it///NONSGML kigkonsult.se iCalcreator 2.10.15//
METHOD:PUBLISH
BEGIN:VEVENT
UID:20260423T195057UTC-27009e0Gcw@https://ischiaeventi.it/
DTSTAMP:20260423T195057Z
DESCRIPTION:Programma della giornataPartenza da Pozzuoli alle ore 8:15 con 
 destinazione Casamicciola.Alle ore 9:00 incontro dei 500isti ischitani pre
 sso il parcheggio tra Casamicciola e Lacco Ameno\, in attesa dello sbarco 
 dei 500isti campani e provenienti da altre zone.A seguire\, un giro in slo
 w drive\, come solo in 500 si può fare\, alla scoperta delle bellezze dell
 'Isola Verde.Pranzo in un ristorante tipico.Rientro per i 500isti non isol
 ani con partenza da Casamicciola alle ore 16:50 in direzione Pozzuoli.Prog
 ramma potenzialmente soggetto a modifiche di orario/itinerario per esigenz
 e di tipo logistico\, meteo o per qualsiasi accadimento senza obbligo di p
 reavviso.Con il Patrocinio delFiat 500 Club ItaliaFONDATO A GARLENDA NEL 1
 984 https://ischiaeventi.it/eventi-passati/evento/249688-ischia-in-500
DTSTART:20260322T080000Z
DTEND:20260322T120000Z
LOCATION:Comune di Casamicciola Terme (Viale Paradisiello\, 80074 Casamicci
 ola Terme NA\, Italia)
SUMMARY:Ischia IN 500
URL:https://ischiaeventi.it/eventi-passati/evento/249688-ischia-in-500
END:VEVENT
END:VCALENDAR
