BEGIN:VCALENDAR
VERSION:2.0
PRODID:-//https://ischiaeventi.it///NONSGML kigkonsult.se iCalcreator 2.10.15//
METHOD:PUBLISH
BEGIN:VEVENT
UID:20260423T180213UTC-542923ktJE@https://ischiaeventi.it/
DTSTAMP:20260423T180213Z
DESCRIPTION:Via Crucis per i Vicoli Saraceni https://ischiaeventi.it/eventi
 -passati/evento/249690-solenne-settenario-in-onore-di-maria-ss-ma-addolora
 ta
DTSTART:20260324T183000Z
DTEND:20260324T203000Z
LOCATION:Forio d’Ischia (80075 Forio NA\, Italia)
SUMMARY:Solenne settenario in onore di Maria SS.ma Addolorata
URL:https://ischiaeventi.it/eventi-passati/evento/249690-solenne-settenario
 -in-onore-di-maria-ss-ma-addolorata
END:VEVENT
END:VCALENDAR
