BEGIN:VCALENDAR
VERSION:2.0
PRODID:-//https://ischiaeventi.it///NONSGML kigkonsult.se iCalcreator 2.10.15//
METHOD:PUBLISH
BEGIN:VEVENT
UID:20260423T222035UTC-3538vjaX21@https://ischiaeventi.it/
DTSTAMP:20260423T222035Z
DESCRIPTION:Saluti istituzionali del Sindaco di Forio Stani Verde e della P
 residente del Sadoul Emilia Di Pace\nRelatori Pasquale Balestriere e Anna 
 Verde – Letture a cura di Gaetano Maschio e Ida Matarese con la partecipaz
 ione di Lucianna De Falco. Intervento musicale di Pier Paolo Aiello\nIn oc
 casione del 70^ anniversario della morte di Giovanni Verde sarà presentata
  la ristampa del libro “Omaggio a Giovanni Verde- Tutto quello che fu rest
 a presente” effettuata a cura del Circolo Sadoul https://ischiaeventi.it/e
 venti-passati/evento/249710-omaggio-a-giovanni-verde
DTSTART:20260328T180000Z
DTEND:20260328T200000Z
LOCATION:Oratorio dell'Assunta (Corso Francesco Regine\, 2\, 80075 Forio NA
 \, Italia)
SUMMARY:OMAGGIO A GIOVANNI VERDE
URL:https://ischiaeventi.it/eventi-passati/evento/249710-omaggio-a-giovanni
 -verde
END:VEVENT
END:VCALENDAR
