BEGIN:VCALENDAR
VERSION:2.0
PRODID:-//https://ischiaeventi.it///NONSGML kigkonsult.se iCalcreator 2.10.15//
METHOD:PUBLISH
BEGIN:VEVENT
UID:20260423T232411UTC-1732tpxSWp@https://ischiaeventi.it/
DTSTAMP:20260423T232411Z
DESCRIPTION:Sezione di ischia ischiafilmfestivalIntervengono:Prof. Giuseppe
  Silvestri ScrittoreMichelangelo Messina Direttore IFFLuigi TelesePres. Mu
 seo Mare IschiaGiovannangelo De Angelis Pres. Lega Navale IschiaSABATO 21 
 MARZO ORE 17:30 SALA AENARIA ISCHIA PONTEAl termine dell'incontro verrà ef
 fettuata una visita gratuita al Museo del Mare di Ischia https://ischiaeve
 nti.it/eventi-passati/evento/249711-le-voci-delle-tonnare-di-ischia
DTSTART:20260321T163000Z
DTEND:20260321T190000Z
LOCATION:Sala Multimediale 'Aenaria' (Via San Giovan Giuseppe\, 80077 Ischi
 a NA\, Italia)
SUMMARY:LE VOCI DELLE TONNARE DI ISCHIA
URL:https://ischiaeventi.it/eventi-passati/evento/249711-le-voci-delle-tonn
 are-di-ischia
END:VEVENT
END:VCALENDAR
