BEGIN:VCALENDAR
VERSION:2.0
PRODID:-//https://ischiaeventi.it///NONSGML kigkonsult.se iCalcreator 2.10.15//
METHOD:PUBLISH
BEGIN:VEVENT
UID:20260423T181129UTC-6117Vsl7Ku@https://ischiaeventi.it/
DTSTAMP:20260423T181129Z
DESCRIPTION:ISCHIA LATIN FESTIVAL II EDIZIONE 27\, 28\, 29 MARZO 2026fair e
 ventsMICHELANGELOFAMILY &amp\; SPA RESORTGALLIAMO SALSA NAPOLI https://isc
 hiaeventi.it/eventi-passati/evento/249721-ischia-latin-festival-ii-edizion
 e
DTSTART:20260328T093700Z
DTEND:20260328T113700Z
LOCATION:Park Hotel Terme Michelangelo (Via Provinciale Lacco - Fango\, 77\
 , 80076 Lacco Ameno NA\, Italia)
SUMMARY:ISCHIA LATIN FESTIVAL II EDIZIONE 
URL:https://ischiaeventi.it/eventi-passati/evento/249721-ischia-latin-festi
 val-ii-edizione
END:VEVENT
END:VCALENDAR
