BEGIN:VCALENDAR
VERSION:2.0
PRODID:-//https://ischiaeventi.it///NONSGML kigkonsult.se iCalcreator 2.10.15//
METHOD:PUBLISH
BEGIN:VEVENT
UID:20260423T222035UTC-5144FAM8Xc@https://ischiaeventi.it/
DTSTAMP:20260423T222035Z
DESCRIPTION:REGIONE CAMPANIACircolo Georges SadoulOMAGGIO A GIOVANNI VERDE 
 Tutto quello che fu resta presenteSABATO 28 MARZO 2026 ORE 19ORATORIO DELL
 'ASSUNTA | FORIOINTERVENTO MUSICALE DI PIERPAOLO AIELLOIn occasione del 70
 ° anniversario della morte di Giovanni Verde sarà presentata la ristampa d
 el libro Tutto quello che fu resta presente. https://ischiaeventi.it/event
 i-passati/evento/249723-omaggio-a-giovanni-verde
DTSTART:20260328T180000Z
DTEND:20260328T200000Z
LOCATION:Circolo George Sadoul (Via Osservatorio\, 2\, 80077 Ischia NA\, It
 alia)
SUMMARY:Omaggio a Giovanni Verde
URL:https://ischiaeventi.it/eventi-passati/evento/249723-omaggio-a-giovanni
 -verde
END:VEVENT
END:VCALENDAR
