BEGIN:VCALENDAR
VERSION:2.0
PRODID:-//https://ischiaeventi.it///NONSGML kigkonsult.se iCalcreator 2.10.15//
METHOD:PUBLISH
BEGIN:VEVENT
UID:20260423T180104UTC-4846elvnR3@https://ischiaeventi.it/
DTSTAMP:20260423T180104Z
DESCRIPTION:Presso il pontile 'V. Napoleone' Benedizione delle Palme e&nbsp
 \;Processione fino alla Chiesa parrocchiale dove ci sarà la S. Messa https
 ://ischiaeventi.it/eventi-passati/evento/249774-pasqua-a-lacco-ameno-bened
 izione-delle-palme
DTSTART:20260329T083000Z
DTEND:20260329T110000Z
LOCATION:Pontile Napoleone  (80076 Lacco Ameno NA\, Italia)
SUMMARY:Pasqua a Lacco Ameno: benedizione delle palme
URL:https://ischiaeventi.it/eventi-passati/evento/249774-pasqua-a-lacco-ame
 no-benedizione-delle-palme
END:VEVENT
END:VCALENDAR
