BEGIN:VCALENDAR
VERSION:2.0
PRODID:-//https://ischiaeventi.it///NONSGML kigkonsult.se iCalcreator 2.10.15//
METHOD:PUBLISH
BEGIN:VEVENT
UID:20260423T193815UTC-159448zk83@https://ischiaeventi.it/
DTSTAMP:20260423T193815Z
DESCRIPTION:Un'ora per raccontare anneddoti e storie in divertimento https:
 //ischiaeventi.it/eventi-passati/evento/27765-un-caffe-con
DTSTART:20240104T153000Z
DTEND:20240104T163000Z
LOCATION:Ristorante Pizzeria Da Ciccio ()
SUMMARY:Un caffè con...
URL:https://ischiaeventi.it/eventi-passati/evento/27765-un-caffe-con
END:VEVENT
END:VCALENDAR
