BEGIN:VCALENDAR
VERSION:2.0
PRODID:-//https://ischiaeventi.it///NONSGML kigkonsult.se iCalcreator 2.10.15//
METHOD:PUBLISH
BEGIN:VEVENT
UID:20260423T201932UTC-5910bcNN3J@https://ischiaeventi.it/
DTSTAMP:20260423T201932Z
DESCRIPTION:Inaugurazione Iacono Mattera Waschimps https://ischiaeventi.it/
 eventi-passati/evento/28758-inaugurazione-iacono-mattera-waschimps
DTSTART:20240426T160000Z
DTEND:20240426T180000Z
LOCATION:Villa Arbusto (Corso Angelo Rizzoli\, 194\, 80076 Lacco Ameno NA\,
  Italia)
SUMMARY:Inaugurazione Iacono Mattera Waschimps
URL:https://ischiaeventi.it/eventi-passati/evento/28758-inaugurazione-iacon
 o-mattera-waschimps
END:VEVENT
END:VCALENDAR
