BEGIN:VCALENDAR
VERSION:2.0
PRODID:-//https://ischiaeventi.it///NONSGML kigkonsult.se iCalcreator 2.10.15//
METHOD:PUBLISH
BEGIN:VEVENT
UID:20260423T220752UTC-1991H8SVg5@https://ischiaeventi.it/
DTSTAMP:20260423T220752Z
DESCRIPTION:Esposizione Iacono Mattera Waschimps https://ischiaeventi.it/ev
 enti-passati/evento/28759-esposizione-iacono-mattera-waschimps
DTSTART:20240323T170000Z
DTEND:20240323T190000Z
LOCATION:Villa Arbusto (Corso Angelo Rizzoli\, 194\, 80076 Lacco Ameno NA\,
  Italia)
SUMMARY:Esposizione Iacono Mattera Waschimps
URL:https://ischiaeventi.it/eventi-passati/evento/28759-esposizione-iacono-
 mattera-waschimps
END:VEVENT
END:VCALENDAR
