BEGIN:VCALENDAR
VERSION:2.0
PRODID:-//https://ischiaeventi.it///NONSGML kigkonsult.se iCalcreator 2.10.15//
METHOD:PUBLISH
BEGIN:VEVENT
UID:20260423T194528UTC-9741gVtkiu@https://ischiaeventi.it/
DTSTAMP:20260423T194528Z
DESCRIPTION:Esposizione Iacono Mattera Waschimps https://ischiaeventi.it/ev
 enti-passati/evento/28788-esposizione-iacono-mattera-waschimps
DTSTART:20240421T160000Z
DTEND:20240421T180000Z
LOCATION:Villa Arbusto (Corso Angelo Rizzoli\, 194\, 80076 Lacco Ameno NA\,
  Italia)
SUMMARY:Esposizione Iacono Mattera Waschimps
URL:https://ischiaeventi.it/eventi-passati/evento/28788-esposizione-iacono-
 mattera-waschimps
END:VEVENT
END:VCALENDAR
