BEGIN:VCALENDAR
VERSION:2.0
PRODID:-//https://ischiaeventi.it///NONSGML kigkonsult.se iCalcreator 2.10.15//
METHOD:PUBLISH
BEGIN:VEVENT
UID:20260423T195254UTC-1455mBOpEj@https://ischiaeventi.it/
DTSTAMP:20260423T195254Z
DESCRIPTION:Ricordando Lucia Mazzella https://ischiaeventi.it/eventi-passat
 i/evento/29235-ricordando-lucia-mazzella
DTSTART:20240413T083000Z
DTEND:20240413T113000Z
LOCATION:I. I. S. Cristofaro Mennella  (Via Michele Mazzella\, 113\, 80077 
 Ischia NA\, Italia)
SUMMARY:Ricordando Lucia Mazzella
URL:https://ischiaeventi.it/eventi-passati/evento/29235-ricordando-lucia-ma
 zzella
END:VEVENT
END:VCALENDAR
