BEGIN:VCALENDAR
VERSION:2.0
PRODID:-//https://ischiaeventi.it///NONSGML kigkonsult.se iCalcreator 2.10.15//
METHOD:PUBLISH
BEGIN:VEVENT
UID:20260424T131336UTC-9453mcNlVV@https://ischiaeventi.it/
DTSTAMP:20260424T131336Z
DESCRIPTION:Un evento che offre un'opportunità unica per celebrare la magia
  della Notte di San Lorenzo in un ambiente spettacolare e sicuro come la S
 piaggia della Chiaia. Un'esperienza indimenticabile che unisce la bellezza
  della natura\, l'innovazione tecnologica e la tradizione fesLva in una se
 rata mozzafiato\, con “falò elettrici” e/o lanterne elettriche\, teli da s
 piaggia e tanto romanticismo. https://ischiaeventi.it/eventi-passati/event
 o/29260-san-lorenzo-sotto-le-stelle
DTSTART;VALUE=DATE:20240810
LOCATION:Forio d’Ischia (80075 Forio NA\, Italia)
SUMMARY:San Lorenzo sotto le stelle
URL:https://ischiaeventi.it/eventi-passati/evento/29260-san-lorenzo-sotto-l
 e-stelle
END:VEVENT
END:VCALENDAR
