BEGIN:VCALENDAR
VERSION:2.0
PRODID:-//https://ischiaeventi.it///NONSGML kigkonsult.se iCalcreator 2.10.15//
METHOD:PUBLISH
BEGIN:VEVENT
UID:20260423T195146UTC-2735EB374F@https://ischiaeventi.it/
DTSTAMP:20260423T195146Z
DESCRIPTION:Solenne processione via mare https://ischiaeventi.it/eventi-pas
 sati/evento/29723-solenne-processione-via-mare
DTSTART:20240517T163000Z
DTEND:20240517T180000Z
LOCATION:Marina di Lacco Ameno (Via Litoranea\, Lacco Ameno NA\, Italia)
SUMMARY:Solenne processione via mare
URL:https://ischiaeventi.it/eventi-passati/evento/29723-solenne-processione
 -via-mare
END:VEVENT
END:VCALENDAR
