BEGIN:VCALENDAR
VERSION:2.0
PRODID:-//https://ischiaeventi.it///NONSGML kigkonsult.se iCalcreator 2.10.15//
METHOD:PUBLISH
BEGIN:VEVENT
UID:20260423T195145UTC-1453WXVTV1@https://ischiaeventi.it/
DTSTAMP:20260423T195145Z
DESCRIPTION:Introduce e coordina l' evento Ciro Cenatiempo https://ischiaev
 enti.it/eventi-passati/evento/30045-libro-molly-una-storia-vera
DTSTART:20240524T163000Z
DTEND:20240524T180000Z
LOCATION:Torre di Testaccio (Via S. Giorgio\, 29\, 80070 Barano d'Ischia NA
 \, Italia)
SUMMARY:Libro: Molly una storia vera
URL:https://ischiaeventi.it/eventi-passati/evento/30045-libro-molly-una-sto
 ria-vera
END:VEVENT
END:VCALENDAR
