BEGIN:VCALENDAR
VERSION:2.0
PRODID:-//https://ischiaeventi.it///NONSGML kigkonsult.se iCalcreator 2.10.15//
METHOD:PUBLISH
BEGIN:VEVENT
UID:20260423T210738UTC-4805DMvSUk@https://ischiaeventi.it/
DTSTAMP:20260423T210738Z
DESCRIPTION:Eduardo De Crescenzo: essenze jazz https://ischiaeventi.it/even
 ti-passati/evento/30268-eduardo-de-crescenzo-essenze-jazz
DTSTART:20240623T193000Z
DTEND:20240623T213000Z
LOCATION:Piazzale Anna De Felice  (80074 Casamicciola Terme NA\, Italia)
SUMMARY:Eduardo De Crescenzo: essenze jazz
URL:https://ischiaeventi.it/eventi-passati/evento/30268-eduardo-de-crescenz
 o-essenze-jazz
END:VEVENT
END:VCALENDAR
