BEGIN:VCALENDAR
VERSION:2.0
PRODID:-//https://ischiaeventi.it///NONSGML kigkonsult.se iCalcreator 2.10.15//
METHOD:PUBLISH
BEGIN:VEVENT
UID:20260424T012653UTC-98106n5TSH@https://ischiaeventi.it/
DTSTAMP:20260424T012653Z
DESCRIPTION:Itineraro culturale https://ischiaeventi.it/eventi-passati/even
 to/30282-laccon-art-ti-porto-io
DTSTART:20240601T150000Z
DTEND:20240601T170000Z
LOCATION:Piazza Capitello  (Piazza Salvatore Girardi\, 1\, 80076 Lacco Amen
 o NA\, Italia)
SUMMARY:LaccOn Art: ti porto io
URL:https://ischiaeventi.it/eventi-passati/evento/30282-laccon-art-ti-porto
 -io
END:VEVENT
END:VCALENDAR
