BEGIN:VCALENDAR
VERSION:2.0
PRODID:-//https://ischiaeventi.it///NONSGML kigkonsult.se iCalcreator 2.10.15//
METHOD:PUBLISH
BEGIN:VEVENT
UID:20260423T224639UTC-64108hDSS5@https://ischiaeventi.it/
DTSTAMP:20260423T224639Z
DESCRIPTION:Pio e Amedeo in show al Negombo https://ischiaeventi.it/eventi-
 passati/evento/30492-pio-e-amedeo-show
DTSTART:20240821T193000Z
DTEND:20240821T213000Z
LOCATION:Parco Termale Negombo (Baia di S. Montano\, - 80076 Lacco Ameno NA
 \, Italia)
SUMMARY:Pio e Amedeo show
URL:https://ischiaeventi.it/eventi-passati/evento/30492-pio-e-amedeo-show
END:VEVENT
END:VCALENDAR
