BEGIN:VCALENDAR
VERSION:2.0
PRODID:-//https://ischiaeventi.it///NONSGML kigkonsult.se iCalcreator 2.10.15//
METHOD:PUBLISH
BEGIN:VEVENT
UID:20260424T012711UTC-6341wSc3Uw@https://ischiaeventi.it/
DTSTAMP:20260424T012711Z
DESCRIPTION:Internationa day of yoga\, evento gratuito https://ischiaeventi
 .it/eventi-passati/evento/30622-internationa-day-of-yoga
DTSTART:20240621T180000Z
DTEND:20240621T205300Z
LOCATION:Piazzale del Soccorso (Via del Soccorso\, 6\, 80075 Forio NA\, Ita
 lia)
SUMMARY:Internationa day of yoga
URL:https://ischiaeventi.it/eventi-passati/evento/30622-internationa-day-of
 -yoga
END:VEVENT
END:VCALENDAR
