BEGIN:VCALENDAR
VERSION:2.0
PRODID:-//https://ischiaeventi.it///NONSGML kigkonsult.se iCalcreator 2.10.15//
METHOD:PUBLISH
BEGIN:VEVENT
UID:20260424T131445UTC-16307wVS5f@https://ischiaeventi.it/
DTSTAMP:20260424T131445Z
DESCRIPTION:DANZA CLASSICADANZA MODERNALATINO ZUMBA FITNESSBALLI DI GRUPPO 
 https://ischiaeventi.it/eventi-passati/evento/30753-calici-di-cultura-e-or
 a-di-danzare
DTSTART:20240613T160000Z
DTEND:20240613T183000Z
LOCATION:Piazzale Cristoforo Colombo (Via Cristoforo Colombo\, 80075 Forio 
 NA\, Italia)
SUMMARY:Calici di cultura: è ora di danzare
URL:https://ischiaeventi.it/eventi-passati/evento/30753-calici-di-cultura-e
 -ora-di-danzare
END:VEVENT
END:VCALENDAR
