BEGIN:VCALENDAR
VERSION:2.0
PRODID:-//https://ischiaeventi.it///NONSGML kigkonsult.se iCalcreator 2.10.15//
METHOD:PUBLISH
BEGIN:VEVENT
UID:20260423T231311UTC-1940k0uHUf@https://ischiaeventi.it/
DTSTAMP:20260423T231311Z
DESCRIPTION:EVENTO ANNULLATO https://ischiaeventi.it/eventi-passati/evento/
 30817-la-pinetella-annullato
DTSTART:20240720T180000Z
DTEND:20240720T215900Z
LOCATION:Ischia Adventure Park (Pineta di Fiaiano\, Via Montagna\, 73\, 800
 77 Ischia NA\, Italia)
SUMMARY:La Pinetella: ANNULLATO
URL:https://ischiaeventi.it/eventi-passati/evento/30817-la-pinetella-annull
 ato
END:VEVENT
END:VCALENDAR
