BEGIN:VCALENDAR
VERSION:2.0
PRODID:-//https://ischiaeventi.it///NONSGML kigkonsult.se iCalcreator 2.10.15//
METHOD:PUBLISH
BEGIN:VEVENT
UID:20260423T195401UTC-4898v4NCj9@https://ischiaeventi.it/
DTSTAMP:20260423T195401Z
DESCRIPTION:Al via la XXVIII edizione di della rassegna letteraria Ischia l
 ibri d'A...mare' https://ischiaeventi.it/eventi-passati/evento/31011-ischi
 a-libri-da-mare-madame-camorra
DTSTART:20240715T183000Z
DTEND:20240715T213000Z
LOCATION:Piazza S. Restituta (Piazza Santa Restituta\, 80076 Lacco Ameno NA
 \, Italia)
SUMMARY:Ischia libri d'A...mare': Madame Camorra
URL:https://ischiaeventi.it/eventi-passati/evento/31011-ischia-libri-da-mar
 e-madame-camorra
END:VEVENT
END:VCALENDAR
