BEGIN:VCALENDAR
VERSION:2.0
PRODID:-//https://ischiaeventi.it///NONSGML kigkonsult.se iCalcreator 2.10.15//
METHOD:PUBLISH
BEGIN:VEVENT
UID:20260423T194932UTC-9280VWUv45@https://ischiaeventi.it/
DTSTAMP:20260423T194932Z
DESCRIPTION:Al via la XXVIII edizione di della rassegna letteraria Ischia l
 ibri d'A...mare' https://ischiaeventi.it/eventi-passati/evento/31012-ischi
 a-libri-da-mare-il-cuore-e-uno-zingaro
DTSTART:20240722T183000Z
DTEND:20240722T213000Z
LOCATION:Piazza S. Restituta (Piazza Santa Restituta\, 80076 Lacco Ameno NA
 \, Italia)
SUMMARY:Ischia libri d'A...mare': Il cuore è uno zingaro
URL:https://ischiaeventi.it/eventi-passati/evento/31012-ischia-libri-da-mar
 e-il-cuore-e-uno-zingaro
END:VEVENT
END:VCALENDAR
