BEGIN:VCALENDAR
VERSION:2.0
PRODID:-//https://ischiaeventi.it///NONSGML kigkonsult.se iCalcreator 2.10.15//
METHOD:PUBLISH
BEGIN:VEVENT
UID:20260424T025021UTC-51402g2siz@https://ischiaeventi.it/
DTSTAMP:20260424T025021Z
DESCRIPTION:9:30PM “N.E.E.T.” dir. Andrea Biglione (93’) https://ischiaeven
 ti.it/eventi-passati/evento/31189-ischia-global-fest-2024-il-cinema-in-pia
 zza
DTSTART:20240711T193000Z
DTEND:20240711T215900Z
LOCATION:Porto di Forio (Porto di Forio\, 80075 Forio NA\, Italia)
SUMMARY:Ischia Global Fest 2024: il cinema in piazza
URL:https://ischiaeventi.it/eventi-passati/evento/31189-ischia-global-fest-
 2024-il-cinema-in-piazza
END:VEVENT
END:VCALENDAR
