BEGIN:VCALENDAR
VERSION:2.0
PRODID:-//https://ischiaeventi.it///NONSGML kigkonsult.se iCalcreator 2.10.15//
METHOD:PUBLISH
BEGIN:VEVENT
UID:20260424T012931UTC-5843GkB4ol@https://ischiaeventi.it/
DTSTAMP:20260424T012931Z
DESCRIPTION:9:30PM “L’ALTRA VIA” dir. Saverio Cappiello (97’) The film will
  be introduced by the producer Giuseppe Gallo and the actor Fausto Vergine
 lli https://ischiaeventi.it/eventi-passati/evento/31194-ischia-global-fest
 -2024-il-cinema-in-piazza
DTSTART:20240712T193000Z
DTEND:20240712T215900Z
LOCATION:Porto di Forio (Porto di Forio\, 80075 Forio NA\, Italia)
SUMMARY:Ischia Global Fest 2024: il cinema in piazza
URL:https://ischiaeventi.it/eventi-passati/evento/31194-ischia-global-fest-
 2024-il-cinema-in-piazza
END:VEVENT
END:VCALENDAR
