BEGIN:VCALENDAR
VERSION:2.0
PRODID:-//https://ischiaeventi.it///NONSGML kigkonsult.se iCalcreator 2.10.15//
METHOD:PUBLISH
BEGIN:VEVENT
UID:20260424T012933UTC-9045LHUn6m@https://ischiaeventi.it/
DTSTAMP:20260424T012933Z
DESCRIPTION:PORTO DI FORIO\n9:30PM “SANTOCIELO” dir. Francesco Amato (120’)
  https://ischiaeventi.it/eventi-passati/evento/31199-ischia-global-fest-20
 24-il-cinema-in-piazza
DTSTART:20240713T193000Z
DTEND:20240713T215900Z
LOCATION:Porto di Forio (Porto di Forio\, 80075 Forio NA\, Italia)
SUMMARY:Ischia Global Fest 2024: il cinema in piazza
URL:https://ischiaeventi.it/eventi-passati/evento/31199-ischia-global-fest-
 2024-il-cinema-in-piazza
END:VEVENT
END:VCALENDAR
