BEGIN:VCALENDAR
VERSION:2.0
PRODID:-//https://ischiaeventi.it///NONSGML kigkonsult.se iCalcreator 2.10.15//
METHOD:PUBLISH
BEGIN:VEVENT
UID:20260424T001607UTC-5372v4FIHa@https://ischiaeventi.it/
DTSTAMP:20260424T001607Z
DESCRIPTION:• PORTO DI FORIO\n9:30PM “ZUCCHERO SUGAR FORNACIARI” dir. Valen
 tina Zanella and Giangiacomo de Stefano (101’) https://ischiaeventi.it/eve
 nti-passati/evento/31202-ischia-global-fest-2024-il-cinema-in-piazza
DTSTART:20240714T193000Z
DTEND:20240714T215900Z
LOCATION:Porto di Forio (Porto di Forio\, 80075 Forio NA\, Italia)
SUMMARY:Ischia Global Fest 2024: il cinema in piazza
URL:https://ischiaeventi.it/eventi-passati/evento/31202-ischia-global-fest-
 2024-il-cinema-in-piazza
END:VEVENT
END:VCALENDAR
